BEGIN:VCALENDAR
VERSION:2.0
PRODID:-//Public Health Infrastructure Grant - ECPv6.15.18//NONSGML v1.0//EN
CALSCALE:GREGORIAN
METHOD:PUBLISH
X-WR-CALNAME:Public Health Infrastructure Grant
X-ORIGINAL-URL:https://www.phinfrastructure.org
X-WR-CALDESC:Events for Public Health Infrastructure Grant
REFRESH-INTERVAL;VALUE=DURATION:PT1H
X-Robots-Tag:noindex
X-PUBLISHED-TTL:PT1H
BEGIN:VTIMEZONE
TZID:America/New_York
BEGIN:DAYLIGHT
TZOFFSETFROM:-0500
TZOFFSETTO:-0400
TZNAME:EDT
DTSTART:20250309T070000
END:DAYLIGHT
BEGIN:STANDARD
TZOFFSETFROM:-0400
TZOFFSETTO:-0500
TZNAME:EST
DTSTART:20251102T060000
END:STANDARD
BEGIN:DAYLIGHT
TZOFFSETFROM:-0500
TZOFFSETTO:-0400
TZNAME:EDT
DTSTART:20260308T070000
END:DAYLIGHT
BEGIN:STANDARD
TZOFFSETFROM:-0400
TZOFFSETTO:-0500
TZNAME:EST
DTSTART:20261101T060000
END:STANDARD
BEGIN:DAYLIGHT
TZOFFSETFROM:-0500
TZOFFSETTO:-0400
TZNAME:EDT
DTSTART:20270314T070000
END:DAYLIGHT
BEGIN:STANDARD
TZOFFSETFROM:-0400
TZOFFSETTO:-0500
TZNAME:EST
DTSTART:20271107T060000
END:STANDARD
END:VTIMEZONE
BEGIN:VEVENT
DTSTART;TZID=America/New_York:20260506T150000
DTEND;TZID=America/New_York:20260506T160000
DTSTAMP:20260423T172833
CREATED:20260407T160935Z
LAST-MODIFIED:20260407T160935Z
UID:10204-1778079600-1778083200@www.phinfrastructure.org
SUMMARY:PHIG VOICES Kick-Off Webinar
DESCRIPTION:During this webinar\, the National Evaluation Team (NET) will provide an overview of the upcoming PHIG Views\, Outcomes\, Impacts\, Challenges\, and Experiences Survey (VOICES)\, including its purpose\, key topics\, and how the information will be used. Attendees will have the opportunity to ask questions and learn about additional support available once the survey launches in mid-May. \nView the Frequently Asked Questions about PHIG VOICES. \nThe purpose of PHIG VOICES is to: \n\nLift up recipient experiences to support shared learning nationwide\nExplore specific topics important to recipients\, such as workforce outcomes and PHIG’s impact on local public health infrastructure\nDescribe PHIG’s value to inform future public health investments\nFill information gaps that existing data (e.g.\, your agency’s performance measures or progress reports) cannot answer\n\nResponses to PHIG VOICES will not assess or evaluate individual agency performance\, affect your PHIG funding\, or identify or single out individual recipients without explicit written permission. \n 
URL:https://www.phinfrastructure.org/event/phig-voices-kick-off-webinar/
LOCATION:Virtual
END:VEVENT
END:VCALENDAR