BEGIN:VCALENDAR
VERSION:2.0
PRODID:-//Public Health Infrastructure Grant - ECPv6.15.18//NONSGML v1.0//EN
CALSCALE:GREGORIAN
METHOD:PUBLISH
X-WR-CALNAME:Public Health Infrastructure Grant
X-ORIGINAL-URL:https://www.phinfrastructure.org
X-WR-CALDESC:Events for Public Health Infrastructure Grant
REFRESH-INTERVAL;VALUE=DURATION:PT1H
X-Robots-Tag:noindex
X-PUBLISHED-TTL:PT1H
BEGIN:VTIMEZONE
TZID:America/New_York
BEGIN:DAYLIGHT
TZOFFSETFROM:-0500
TZOFFSETTO:-0400
TZNAME:EDT
DTSTART:20250309T070000
END:DAYLIGHT
BEGIN:STANDARD
TZOFFSETFROM:-0400
TZOFFSETTO:-0500
TZNAME:EST
DTSTART:20251102T060000
END:STANDARD
BEGIN:DAYLIGHT
TZOFFSETFROM:-0500
TZOFFSETTO:-0400
TZNAME:EDT
DTSTART:20260308T070000
END:DAYLIGHT
BEGIN:STANDARD
TZOFFSETFROM:-0400
TZOFFSETTO:-0500
TZNAME:EST
DTSTART:20261101T060000
END:STANDARD
BEGIN:DAYLIGHT
TZOFFSETFROM:-0500
TZOFFSETTO:-0400
TZNAME:EDT
DTSTART:20270314T070000
END:DAYLIGHT
BEGIN:STANDARD
TZOFFSETFROM:-0400
TZOFFSETTO:-0500
TZNAME:EST
DTSTART:20271107T060000
END:STANDARD
END:VTIMEZONE
BEGIN:VEVENT
DTSTART;TZID=America/New_York:20260513T150000
DTEND;TZID=America/New_York:20260513T154500
DTSTAMP:20260423T235710
CREATED:20260416T164813Z
LAST-MODIFIED:20260416T164936Z
UID:10230-1778684400-1778687100@www.phinfrastructure.org
SUMMARY:Building a Logic Model and Evaluation Plan Matrix for Public Health System Transformation
DESCRIPTION:Join PHAB on May 13th\, 3-3:45pm ET as we introduce a newly released guide that provides a practical\, step by step approach to building a logic model and evaluation plan matrix for public health system transformation. The guide is designed as a staring point for those who are new to public health system transformation or have limited evaluation capacity or capability. Upon completion of the webinar\, participants will be able to:\n\n\n• List the steps for building a logic model and evaluation plan matrix for system transformation.\n• Access additional worksheets and resources to support evaluation efforts.
URL:https://www.phinfrastructure.org/event/building-a-logic-model-and-evaluation-plan-matrix-for-public-health-system-transformation/
LOCATION:Virtual
END:VEVENT
END:VCALENDAR